BEGIN:VCALENDAR
VERSION:2.0
METHOD:PUBLISH
BEGIN:VEVENT
UID:WILD_APRICOT_EVENT_3205685_SESSION_1
DTSTART:20190504T083000Z
DTEND:20190504T130000Z
SUMMARY:Senior Teams Presentation Night 2018-19
LOCATION:Carlingford Bowling Club
DESCRIPTION:https://carlingfordbaseball.com.au/event-3205685\n\nSenior Teams Presentation Night - 2019-20\n  $40 per person if registering and paying prior to Easter (14 April) otherwise cost is $45 per person\n  \n\n  Important Note: This is an adult focused function\n  Please advise us of any special dietary requirements by emailing functions@carlingfordbaseball.com.au\n
DTSTAMP:20260424T164315Z
END:VEVENT
END:VCALENDAR
